BEGIN:VCALENDAR
VERSION:2.0
CALSCALE:GREGORIAN
PRODID:adamgibbons/ics
METHOD:PUBLISH
X-PUBLISHED-TTL:PT1H
BEGIN:VEVENT
UID:1758@calendrigeek.com
SUMMARY:Soirée Magic au Joubec
DTSTAMP:20260419T130735Z
DTSTART:20260419T223000Z
DTEND:20260420T020000Z
URL:https://calendrigeek.com/event/soiree-magic-au-joubec-86
GEO:48.1016;-77.7846
LOCATION:Joubec\, Val-d'Or - 670\, 3e Avenue\, Bourlamaque\, Val-d'Or\, La 
	Vallée-de-l'Or\, Québec\, J9P 1P9\, Canada
STATUS:CONFIRMED
CATEGORIES:Jeux de cartes,Jeux de cartes à collectionner,magic the gatherin
	g
END:VEVENT
END:VCALENDAR
